



BEGIN:VCALENDAR
VERSION:2.0
PRODID:-//Greenbank Primary School - ECPv6.15.20//NONSGML v1.0//EN
CALSCALE:GREGORIAN
METHOD:PUBLISH
X-WR-CALNAME:Greenbank Primary School
X-ORIGINAL-URL:https://greenbank-primary.co.uk
X-WR-CALDESC:Events for Greenbank Primary School
REFRESH-INTERVAL;VALUE=DURATION:PT1H
X-Robots-Tag:noindex
X-PUBLISHED-TTL:PT1H
BEGIN:VTIMEZONE
TZID:Europe/London
BEGIN:DAYLIGHT
TZOFFSETFROM:+0000
TZOFFSETTO:+0100
TZNAME:BST
DTSTART:20240331T010000
END:DAYLIGHT
BEGIN:STANDARD
TZOFFSETFROM:+0100
TZOFFSETTO:+0000
TZNAME:GMT
DTSTART:20241027T010000
END:STANDARD
BEGIN:DAYLIGHT
TZOFFSETFROM:+0000
TZOFFSETTO:+0100
TZNAME:BST
DTSTART:20250330T010000
END:DAYLIGHT
BEGIN:STANDARD
TZOFFSETFROM:+0100
TZOFFSETTO:+0000
TZNAME:GMT
DTSTART:20251026T010000
END:STANDARD
BEGIN:DAYLIGHT
TZOFFSETFROM:+0000
TZOFFSETTO:+0100
TZNAME:BST
DTSTART:20260329T010000
END:DAYLIGHT
BEGIN:STANDARD
TZOFFSETFROM:+0100
TZOFFSETTO:+0000
TZNAME:GMT
DTSTART:20261025T010000
END:STANDARD
END:VTIMEZONE
BEGIN:VEVENT
DTSTART;TZID=Europe/London:20251120T153000
DTEND;TZID=Europe/London:20251120T163000
DTSTAMP:20260420T190141
CREATED:20251107T121858Z
LAST-MODIFIED:20251107T121858Z
UID:10000231-1763652600-1763656200@greenbank-primary.co.uk
SUMMARY:Reception OPEN Evening
DESCRIPTION:
URL:https://greenbank-primary.co.uk/event/reception-open-evening-4/
END:VEVENT
BEGIN:VEVENT
DTSTART;TZID=Europe/London:20251120T080000
DTEND;TZID=Europe/London:20251120T170000
DTSTAMP:20260420T190141
CREATED:20251107T122857Z
LAST-MODIFIED:20251107T122857Z
UID:10000234-1763625600-1763658000@greenbank-primary.co.uk
SUMMARY:Year 6 trip to Cineworld in Speke
DESCRIPTION:
URL:https://greenbank-primary.co.uk/event/year-6-trip-to-cineworld-in-speke/
END:VEVENT
BEGIN:VEVENT
DTSTART;TZID=Europe/London:20251111T130000
DTEND;TZID=Europe/London:20251111T150000
DTSTAMP:20260420T190141
CREATED:20251107T120546Z
LAST-MODIFIED:20251107T120546Z
UID:10000223-1762866000-1762873200@greenbank-primary.co.uk
SUMMARY:Year 1 trip to Liverpool Hope University
DESCRIPTION:Literacy activities
URL:https://greenbank-primary.co.uk/event/year-1-trip-to-liverpool-hope-university/
END:VEVENT
BEGIN:VEVENT
DTSTART;VALUE=DATE:20251110
DTEND;VALUE=DATE:20251111
DTSTAMP:20260420T190141
CREATED:20251107T120144Z
LAST-MODIFIED:20251107T120144Z
UID:10000222-1762732800-1762819199@greenbank-primary.co.uk
SUMMARY:ODD socks day
DESCRIPTION:
URL:https://greenbank-primary.co.uk/event/odd-socks-day/
END:VEVENT
BEGIN:VEVENT
DTSTART;VALUE=DATE:20251110
DTEND;VALUE=DATE:20251111
DTSTAMP:20260420T190141
CREATED:20251107T120057Z
LAST-MODIFIED:20251107T120057Z
UID:10000221-1762732800-1762819199@greenbank-primary.co.uk
SUMMARY:School Photographs
DESCRIPTION:All children to wear FULL SCHOOL UNIFORM
URL:https://greenbank-primary.co.uk/event/school-photographs-2/
END:VEVENT
BEGIN:VEVENT
DTSTART;VALUE=DATE:20251027
DTEND;VALUE=DATE:20251101
DTSTAMP:20260420T190141
CREATED:20250501T092731Z
LAST-MODIFIED:20250501T092731Z
UID:10000167-1761523200-1761955199@greenbank-primary.co.uk
SUMMARY:HALF TERM (School Closed)
DESCRIPTION:
URL:https://greenbank-primary.co.uk/event/half-term-school-closed-5/
END:VEVENT
BEGIN:VEVENT
DTSTART;VALUE=DATE:20251024
DTEND;VALUE=DATE:20251025
DTSTAMP:20260420T190141
CREATED:20250501T092302Z
LAST-MODIFIED:20250501T092302Z
UID:10000164-1761264000-1761350399@greenbank-primary.co.uk
SUMMARY:School INSET Day (No.3) - School Closed
DESCRIPTION:
URL:https://greenbank-primary.co.uk/event/school-inset-day-no-3-school-closed/
END:VEVENT
BEGIN:VEVENT
DTSTART;TZID=Europe/London:20251022T153000
DTEND;TZID=Europe/London:20251022T180000
DTSTAMP:20260420T190141
CREATED:20250919T112736Z
LAST-MODIFIED:20250919T112736Z
UID:10000219-1761147000-1761156000@greenbank-primary.co.uk
SUMMARY:Parent's Evening - whole school
DESCRIPTION:
URL:https://greenbank-primary.co.uk/event/parents-evening-whole-school/
END:VEVENT
BEGIN:VEVENT
DTSTART;TZID=Europe/London:20251008T160000
DTEND;TZID=Europe/London:20251008T170000
DTSTAMP:20260420T190141
CREATED:20250919T112833Z
LAST-MODIFIED:20250919T112833Z
UID:10000220-1759939200-1759942800@greenbank-primary.co.uk
SUMMARY:RECEPTION - OPEN EVENING
DESCRIPTION:
URL:https://greenbank-primary.co.uk/event/reception-open-evening-3/
END:VEVENT
BEGIN:VEVENT
DTSTART;TZID=Europe/London:20250925T153000
DTEND;TZID=Europe/London:20250925T160000
DTSTAMP:20260420T190141
CREATED:20250915T084148Z
LAST-MODIFIED:20250915T084148Z
UID:10000218-1758814200-1758816000@greenbank-primary.co.uk
SUMMARY:Meet the Teachers - Years 2\, 3 and 4
DESCRIPTION:
URL:https://greenbank-primary.co.uk/event/meet-the-teachers-years-2-3-and-4/
END:VEVENT
BEGIN:VEVENT
DTSTART;TZID=Europe/London:20250924T153000
DTEND;TZID=Europe/London:20250924T160000
DTSTAMP:20260420T190141
CREATED:20250915T084055Z
LAST-MODIFIED:20250915T084055Z
UID:10000217-1758727800-1758729600@greenbank-primary.co.uk
SUMMARY:Meet the Teachers - Years 1\, 5 and 6
DESCRIPTION:
URL:https://greenbank-primary.co.uk/event/meet-the-teachers-years-1-5-and-6/
END:VEVENT
BEGIN:VEVENT
DTSTART;TZID=Europe/London:20250911T100000
DTEND;TZID=Europe/London:20250911T120000
DTSTAMP:20260420T190141
CREATED:20250915T083941Z
LAST-MODIFIED:20250915T083941Z
UID:10000216-1757584800-1757592000@greenbank-primary.co.uk
SUMMARY:Swimming starts - Year 5
DESCRIPTION:
URL:https://greenbank-primary.co.uk/event/swimming-starts-year-5/
END:VEVENT
BEGIN:VEVENT
DTSTART;TZID=Europe/London:20250908T153000
DTEND;TZID=Europe/London:20250908T160000
DTSTAMP:20260420T190141
CREATED:20250915T083830Z
LAST-MODIFIED:20250915T083830Z
UID:10000215-1757345400-1757347200@greenbank-primary.co.uk
SUMMARY:Year 6 - Parents meeting (Paris Residential)
DESCRIPTION:
URL:https://greenbank-primary.co.uk/event/year-6-parents-meeting-paris-residential/
END:VEVENT
BEGIN:VEVENT
DTSTART;VALUE=DATE:20250905
DTEND;VALUE=DATE:20250906
DTSTAMP:20260420T190141
CREATED:20250915T083721Z
LAST-MODIFIED:20250915T083721Z
UID:10000214-1757030400-1757116799@greenbank-primary.co.uk
SUMMARY:Rock Steady starts (Music lessons)
DESCRIPTION:
URL:https://greenbank-primary.co.uk/event/rock-steady-starts-music-lessons/
END:VEVENT
BEGIN:VEVENT
DTSTART;VALUE=DATE:20250904
DTEND;VALUE=DATE:20250905
DTSTAMP:20260420T190141
CREATED:20250915T083612Z
LAST-MODIFIED:20250915T083612Z
UID:10000213-1756944000-1757030399@greenbank-primary.co.uk
SUMMARY:Reception children start school
DESCRIPTION:
URL:https://greenbank-primary.co.uk/event/reception-children-start-school-2/
END:VEVENT
BEGIN:VEVENT
DTSTART;VALUE=DATE:20250903
DTEND;VALUE=DATE:20250904
DTSTAMP:20260420T190141
CREATED:20250501T093639Z
LAST-MODIFIED:20250501T093639Z
UID:10000173-1756857600-1756943999@greenbank-primary.co.uk
SUMMARY:Children back to school
DESCRIPTION:
URL:https://greenbank-primary.co.uk/event/children-back-to-school/
END:VEVENT
BEGIN:VEVENT
DTSTART;VALUE=DATE:20250902
DTEND;VALUE=DATE:20250903
DTSTAMP:20260420T190141
CREATED:20250501T092159Z
LAST-MODIFIED:20250501T092159Z
UID:10000163-1756771200-1756857599@greenbank-primary.co.uk
SUMMARY:School INSET Day (No.2) - School Closed
DESCRIPTION:
URL:https://greenbank-primary.co.uk/event/school-inset-day-no-2-school-closed/
END:VEVENT
BEGIN:VEVENT
DTSTART;VALUE=DATE:20250901
DTEND;VALUE=DATE:20250902
DTSTAMP:20260420T190141
CREATED:20250501T092102Z
LAST-MODIFIED:20250501T092102Z
UID:10000162-1756684800-1756771199@greenbank-primary.co.uk
SUMMARY:School INSET day (No.1) - School Closed
DESCRIPTION:
URL:https://greenbank-primary.co.uk/event/school-inset-day-no-1-school-closed/
END:VEVENT
BEGIN:VEVENT
DTSTART;VALUE=DATE:20250722
DTEND;VALUE=DATE:20250723
DTSTAMP:20260420T190141
CREATED:20241002T083555Z
LAST-MODIFIED:20241002T083555Z
UID:10000104-1753142400-1753228799@greenbank-primary.co.uk
SUMMARY:INSET DAY No.5 - school closed
DESCRIPTION:
URL:https://greenbank-primary.co.uk/event/inset-day-no-5-school-closed/
END:VEVENT
BEGIN:VEVENT
DTSTART;VALUE=DATE:20250722
DTEND;VALUE=DATE:20250723
DTSTAMP:20260420T190141
CREATED:20240902T144237Z
LAST-MODIFIED:20240902T144237Z
UID:10000074-1753142400-1753228799@greenbank-primary.co.uk
SUMMARY:INSET DAY - School Closed
DESCRIPTION:
URL:https://greenbank-primary.co.uk/event/inset-day-school-closed-7/
END:VEVENT
BEGIN:VEVENT
DTSTART;VALUE=DATE:20250721
DTEND;VALUE=DATE:20250722
DTSTAMP:20260420T190141
CREATED:20241002T083524Z
LAST-MODIFIED:20241002T083524Z
UID:10000103-1753056000-1753142399@greenbank-primary.co.uk
SUMMARY:INSET DAY No.4 - school closed
DESCRIPTION:
URL:https://greenbank-primary.co.uk/event/inset-day-no-4-school-closed/
END:VEVENT
BEGIN:VEVENT
DTSTART;VALUE=DATE:20250721
DTEND;VALUE=DATE:20250722
DTSTAMP:20260420T190141
CREATED:20240524T122154Z
LAST-MODIFIED:20240902T144200Z
UID:10000069-1753056000-1753142399@greenbank-primary.co.uk
SUMMARY:INSET Day - School closed
DESCRIPTION:
URL:https://greenbank-primary.co.uk/event/inset-day-school-closed-5/
END:VEVENT
BEGIN:VEVENT
DTSTART;VALUE=DATE:20250718
DTEND;VALUE=DATE:20250719
DTSTAMP:20260420T190141
CREATED:20241002T083457Z
LAST-MODIFIED:20241002T083457Z
UID:10000102-1752796800-1752883199@greenbank-primary.co.uk
SUMMARY:End of term
DESCRIPTION:Early years and KS1 – 1.10pm \nKS2 – 1.15pm
URL:https://greenbank-primary.co.uk/event/end-of-term-3/
END:VEVENT
BEGIN:VEVENT
DTSTART;TZID=Europe/London:20250717T190000
DTEND;TZID=Europe/London:20250717T210000
DTSTAMP:20260420T190141
CREATED:20250519T090535Z
LAST-MODIFIED:20250519T090535Z
UID:10000191-1752778800-1752786000@greenbank-primary.co.uk
SUMMARY:Year 6 Leavers Ball/Prom
DESCRIPTION:
URL:https://greenbank-primary.co.uk/event/year-6-leavers-ball-prom/
END:VEVENT
BEGIN:VEVENT
DTSTART;TZID=Europe/London:20250717T140000
DTEND;TZID=Europe/London:20250717T150000
DTSTAMP:20260420T190141
CREATED:20250605T102051Z
LAST-MODIFIED:20250605T102051Z
UID:10000201-1752760800-1752764400@greenbank-primary.co.uk
SUMMARY:Year 6 Leaver's Assembly
DESCRIPTION:
URL:https://greenbank-primary.co.uk/event/year-6-leavers-assembly-2/
END:VEVENT
BEGIN:VEVENT
DTSTART;VALUE=DATE:20250716
DTEND;VALUE=DATE:20250717
DTSTAMP:20260420T190141
CREATED:20250625T103256Z
LAST-MODIFIED:20250625T103256Z
UID:10000209-1752624000-1752710399@greenbank-primary.co.uk
SUMMARY:SPORTS DAY - KS2
DESCRIPTION:All parents and families welcome to attend – please ensure your child is wearing the correct school PE kit with a waterproof coat. \nLiverpool College\, Penny Lane site \nYear 5 and Year 6 – 9.30am – 11.30am \nYear 3 and Year 4 – 1.15pm – 3.00pm \nWeather permitting
URL:https://greenbank-primary.co.uk/event/sports-day-ks2/
END:VEVENT
BEGIN:VEVENT
DTSTART;TZID=Europe/London:20250715T140000
DTEND;TZID=Europe/London:20250715T150000
DTSTAMP:20260420T190141
CREATED:20250625T085400Z
LAST-MODIFIED:20250715T134720Z
UID:10000207-1752588000-1752591600@greenbank-primary.co.uk
SUMMARY:Year 4 Stay & Play session - parents welcome - CANCELLED DUE TO RAIN
DESCRIPTION:School has organised a Stay and Play session for parents to visit school and enjoy time on the playground with their children and their friends. \n2.15pm – 3pm (weather permitting) \nPlease enter school via Arlington Avenue\, playground gate. \nWould be lovely to see as many families as possible enjoying games and activities on the playground.
URL:https://greenbank-primary.co.uk/event/year-4-stay-play-session-parents-welcome/
END:VEVENT
BEGIN:VEVENT
DTSTART;VALUE=DATE:20250715
DTEND;VALUE=DATE:20250716
DTSTAMP:20260420T190141
CREATED:20250625T102634Z
LAST-MODIFIED:20250715T134957Z
UID:10000208-1752537600-1752623999@greenbank-primary.co.uk
SUMMARY:SPORTS DAY - Reception\, Year 1 and Year 2
DESCRIPTION:All parents and families welcome to attend – please ensure your child is wearing the correct school PE kit with a waterproof coat. \nIn school rather than at Liverpool College\, Penny Lane due to wet weather \nIndoor Sports Day Timetable\n9:00 – 10:10 – Year 1 (1T 9:00 – 9:30) (1M 9:35 – 10:05)\n10:10 – 11:20 – Year 2 (2GR 10:10  – 10:40) (2P 10:45 – 11:15)\n1:30 – 2:45 – Reception (RCR 1:30 – 2:00) (RF 2:05 – 2:35)
URL:https://greenbank-primary.co.uk/event/reception-year-1-and-2-sports-day/
END:VEVENT
BEGIN:VEVENT
DTSTART;TZID=Europe/London:20250714T140000
DTEND;TZID=Europe/London:20250714T150000
DTSTAMP:20260420T190141
CREATED:20250625T085208Z
LAST-MODIFIED:20250625T085208Z
UID:10000206-1752501600-1752505200@greenbank-primary.co.uk
SUMMARY:Year 6 Stay & Play session - parents welcome
DESCRIPTION:School has organised a Stay and Play session for parents to visit school and enjoy time on the playground with their children and their friends. \n2.15pm – 3pm (weather permitting) \nPlease enter school via Arlington Avenue\, playground gate. \nWould be lovely to see as many families as possible enjoying games and activities on the playground.
URL:https://greenbank-primary.co.uk/event/year-6-stay-play-session-parents-welcome/
END:VEVENT
BEGIN:VEVENT
DTSTART;TZID=Europe/London:20250711T140000
DTEND;TZID=Europe/London:20250711T150000
DTSTAMP:20260420T190141
CREATED:20250708T094930Z
LAST-MODIFIED:20250708T094930Z
UID:10000211-1752242400-1752246000@greenbank-primary.co.uk
SUMMARY:Rock Steady Music Performance (2.15pm)
DESCRIPTION:For all parents of children who have Rock Steady Music lessons in school. \nChildren can bring in their own clothes if they wish to change into for the concert. \nPlease enter school via the main office.
URL:https://greenbank-primary.co.uk/event/rock-steady-music-performance-2-15pm/
END:VEVENT
END:VCALENDAR