



BEGIN:VCALENDAR
VERSION:2.0
PRODID:-//Greenbank Primary School - ECPv6.15.20//NONSGML v1.0//EN
CALSCALE:GREGORIAN
METHOD:PUBLISH
X-WR-CALNAME:Greenbank Primary School
X-ORIGINAL-URL:https://greenbank-primary.co.uk
X-WR-CALDESC:Events for Greenbank Primary School
REFRESH-INTERVAL;VALUE=DURATION:PT1H
X-Robots-Tag:noindex
X-PUBLISHED-TTL:PT1H
BEGIN:VTIMEZONE
TZID:Europe/London
BEGIN:DAYLIGHT
TZOFFSETFROM:+0000
TZOFFSETTO:+0100
TZNAME:BST
DTSTART:20240331T010000
END:DAYLIGHT
BEGIN:STANDARD
TZOFFSETFROM:+0100
TZOFFSETTO:+0000
TZNAME:GMT
DTSTART:20241027T010000
END:STANDARD
BEGIN:DAYLIGHT
TZOFFSETFROM:+0000
TZOFFSETTO:+0100
TZNAME:BST
DTSTART:20250330T010000
END:DAYLIGHT
BEGIN:STANDARD
TZOFFSETFROM:+0100
TZOFFSETTO:+0000
TZNAME:GMT
DTSTART:20251026T010000
END:STANDARD
BEGIN:DAYLIGHT
TZOFFSETFROM:+0000
TZOFFSETTO:+0100
TZNAME:BST
DTSTART:20260329T010000
END:DAYLIGHT
BEGIN:STANDARD
TZOFFSETFROM:+0100
TZOFFSETTO:+0000
TZNAME:GMT
DTSTART:20261025T010000
END:STANDARD
END:VTIMEZONE
BEGIN:VEVENT
DTSTART;VALUE=DATE:20250421
DTEND;VALUE=DATE:20250422
DTSTAMP:20260425T133925
CREATED:20250214T113347Z
LAST-MODIFIED:20250214T113347Z
UID:10000148-1745193600-1745279999@greenbank-primary.co.uk
SUMMARY:Bank Holiday - School Closed
DESCRIPTION:
URL:https://greenbank-primary.co.uk/event/bank-holiday-school-closed-3/
END:VEVENT
BEGIN:VEVENT
DTSTART;VALUE=DATE:20250414
DTEND;VALUE=DATE:20250419
DTSTAMP:20260425T133925
CREATED:20250214T113316Z
LAST-MODIFIED:20250214T113316Z
UID:10000147-1744588800-1745020799@greenbank-primary.co.uk
SUMMARY:School Closed
DESCRIPTION:
URL:https://greenbank-primary.co.uk/event/school-closed-2/
END:VEVENT
BEGIN:VEVENT
DTSTART;VALUE=DATE:20250407
DTEND;VALUE=DATE:20250412
DTSTAMP:20260425T133925
CREATED:20250214T113248Z
LAST-MODIFIED:20250214T113248Z
UID:10000146-1743984000-1744415999@greenbank-primary.co.uk
SUMMARY:School Closed
DESCRIPTION:
URL:https://greenbank-primary.co.uk/event/school-closed/
END:VEVENT
BEGIN:VEVENT
DTSTART;VALUE=DATE:20250404
DTEND;VALUE=DATE:20250405
DTSTAMP:20260425T133925
CREATED:20241002T083753Z
LAST-MODIFIED:20241002T083753Z
UID:10000106-1743724800-1743811199@greenbank-primary.co.uk
SUMMARY:End of term
DESCRIPTION:Early years and KS1 – 1.10pm \nKS2 – 1.15pm
URL:https://greenbank-primary.co.uk/event/end-of-term-4/
END:VEVENT
BEGIN:VEVENT
DTSTART;TZID=Europe/London:20250403T153000
DTEND;TZID=Europe/London:20250403T163000
DTSTAMP:20260425T133925
CREATED:20250326T144534Z
LAST-MODIFIED:20250326T144534Z
UID:10000153-1743694200-1743697800@greenbank-primary.co.uk
SUMMARY:PTFA - Easter Eggstravaganza
DESCRIPTION:
URL:https://greenbank-primary.co.uk/event/ptfa-easter-eggstravaganza/
END:VEVENT
BEGIN:VEVENT
DTSTART;TZID=Europe/London:20250403T143000
DTEND;TZID=Europe/London:20250403T150000
DTSTAMP:20260425T133925
CREATED:20250326T144725Z
LAST-MODIFIED:20250326T144725Z
UID:10000154-1743690600-1743692400@greenbank-primary.co.uk
SUMMARY:Choir performance - Years 1 and 2 only
DESCRIPTION:Parents are welcome to come along and watch a performance from Years 1 and 2. Children have been learning songs by Liverpool Cathedral.
URL:https://greenbank-primary.co.uk/event/choir-performance-years-1-and-2-only/
END:VEVENT
BEGIN:VEVENT
DTSTART;TZID=Europe/London:20250402T133000
DTEND;TZID=Europe/London:20250402T150000
DTSTAMP:20260425T133925
CREATED:20250326T144227Z
LAST-MODIFIED:20250326T144227Z
UID:10000152-1743600600-1743606000@greenbank-primary.co.uk
SUMMARY:Year 4 Greenbank Park visit
DESCRIPTION:
URL:https://greenbank-primary.co.uk/event/year-4-greenbank-park-visit/
END:VEVENT
BEGIN:VEVENT
DTSTART;TZID=Europe/London:20250328T140000
DTEND;TZID=Europe/London:20250328T150000
DTSTAMP:20260425T133925
CREATED:20250326T144122Z
LAST-MODIFIED:20250326T144122Z
UID:10000151-1743170400-1743174000@greenbank-primary.co.uk
SUMMARY:Nursery PM - Stay and Play
DESCRIPTION:
URL:https://greenbank-primary.co.uk/event/nursery-pm-stay-and-play/
END:VEVENT
BEGIN:VEVENT
DTSTART;TZID=Europe/London:20250328T140000
DTEND;TZID=Europe/London:20250328T150000
DTSTAMP:20260425T133925
CREATED:20250131T111403Z
LAST-MODIFIED:20250131T111403Z
UID:10000133-1743170400-1743174000@greenbank-primary.co.uk
SUMMARY:Rocksteady Show
DESCRIPTION:More details to follow
URL:https://greenbank-primary.co.uk/event/rocksteady-show/
END:VEVENT
BEGIN:VEVENT
DTSTART;TZID=Europe/London:20250328T100000
DTEND;TZID=Europe/London:20250328T110000
DTSTAMP:20260425T133925
CREATED:20250326T144019Z
LAST-MODIFIED:20250326T144019Z
UID:10000150-1743156000-1743159600@greenbank-primary.co.uk
SUMMARY:Nursery AM - Stay and Play
DESCRIPTION:
URL:https://greenbank-primary.co.uk/event/nursery-am-stay-and-play/
END:VEVENT
BEGIN:VEVENT
DTSTART;TZID=Europe/London:20250324T130000
DTEND;TZID=Europe/London:20250324T143000
DTSTAMP:20260425T133925
CREATED:20250326T143720Z
LAST-MODIFIED:20250326T143720Z
UID:10000149-1742821200-1742826600@greenbank-primary.co.uk
SUMMARY:Year 1 trip to Mossley Hill Church
DESCRIPTION:
URL:https://greenbank-primary.co.uk/event/year-1-trip-to-mossley-hill-church/
END:VEVENT
BEGIN:VEVENT
DTSTART;VALUE=DATE:20250320
DTEND;VALUE=DATE:20250321
DTSTAMP:20260425T133925
CREATED:20250212T084959Z
LAST-MODIFIED:20250212T084959Z
UID:10000141-1742428800-1742515199@greenbank-primary.co.uk
SUMMARY:Year 3 visit Croxteth Park Farm
DESCRIPTION:
URL:https://greenbank-primary.co.uk/event/year-3-visit-croxteth-park-farm/
END:VEVENT
BEGIN:VEVENT
DTSTART;TZID=Europe/London:20250319T153000
DTEND;TZID=Europe/London:20250319T183000
DTSTAMP:20260425T133925
CREATED:20250131T111312Z
LAST-MODIFIED:20250131T111312Z
UID:10000132-1742398200-1742409000@greenbank-primary.co.uk
SUMMARY:Parent's Evening (reception - Year 6)
DESCRIPTION:
URL:https://greenbank-primary.co.uk/event/parents-evening-reception-year-6/
END:VEVENT
BEGIN:VEVENT
DTSTART;VALUE=DATE:20250319
DTEND;VALUE=DATE:20250320
DTSTAMP:20260425T133925
CREATED:20250131T111240Z
LAST-MODIFIED:20250131T111240Z
UID:10000131-1742342400-1742428799@greenbank-primary.co.uk
SUMMARY:Nursery trip to Acorn Farm
DESCRIPTION:
URL:https://greenbank-primary.co.uk/event/nursery-trip-to-acorn-farm/
END:VEVENT
BEGIN:VEVENT
DTSTART;VALUE=DATE:20250317
DTEND;VALUE=DATE:20250322
DTSTAMP:20260425T133925
CREATED:20241002T083327Z
LAST-MODIFIED:20250212T090831Z
UID:10000101-1742169600-1742601599@greenbank-primary.co.uk
SUMMARY:Bikeability
DESCRIPTION:
URL:https://greenbank-primary.co.uk/event/bikeability/
END:VEVENT
BEGIN:VEVENT
DTSTART;TZID=Europe/London:20250312T153000
DTEND;TZID=Europe/London:20250312T180000
DTSTAMP:20260425T133925
CREATED:20250131T111205Z
LAST-MODIFIED:20250131T111205Z
UID:10000130-1741793400-1741802400@greenbank-primary.co.uk
SUMMARY:Nursery Parents Evening
DESCRIPTION:
URL:https://greenbank-primary.co.uk/event/nursery-parents-evening/
END:VEVENT
BEGIN:VEVENT
DTSTART;VALUE=DATE:20250306
DTEND;VALUE=DATE:20250307
DTSTAMP:20260425T133925
CREATED:20250131T111119Z
LAST-MODIFIED:20250131T111119Z
UID:10000129-1741219200-1741305599@greenbank-primary.co.uk
SUMMARY:World Book Day
DESCRIPTION:
URL:https://greenbank-primary.co.uk/event/world-book-day/
END:VEVENT
BEGIN:VEVENT
DTSTART;VALUE=DATE:20250226
DTEND;VALUE=DATE:20250305
DTSTAMP:20260425T133925
CREATED:20250212T084752Z
LAST-MODIFIED:20250212T085440Z
UID:10000140-1740528000-1741132799@greenbank-primary.co.uk
SUMMARY:Book Fair (1 week)
DESCRIPTION:Children and parents can come along into the school hall everyday from 3.30pm to buy books.
URL:https://greenbank-primary.co.uk/event/book-fair-starts-1-week/
END:VEVENT
BEGIN:VEVENT
DTSTART;VALUE=DATE:20250217
DTEND;VALUE=DATE:20250222
DTSTAMP:20260425T133925
CREATED:20241002T083705Z
LAST-MODIFIED:20241002T083705Z
UID:10000105-1739750400-1740182399@greenbank-primary.co.uk
SUMMARY:Half Term
DESCRIPTION:
URL:https://greenbank-primary.co.uk/event/half-term-3/
END:VEVENT
BEGIN:VEVENT
DTSTART;VALUE=DATE:20250214
DTEND;VALUE=DATE:20250215
DTSTAMP:20260425T133925
CREATED:20250212T084535Z
LAST-MODIFIED:20250214T113123Z
UID:10000139-1739491200-1739577599@greenbank-primary.co.uk
SUMMARY:End of Term - School finishes at normal time
DESCRIPTION:
URL:https://greenbank-primary.co.uk/event/end-of-term-school-finishes-at-normal-time/
END:VEVENT
BEGIN:VEVENT
DTSTART;TZID=Europe/London:20250213T153000
DTEND;TZID=Europe/London:20250213T183000
DTSTAMP:20260425T133925
CREATED:20250131T110941Z
LAST-MODIFIED:20250131T110941Z
UID:10000128-1739460600-1739471400@greenbank-primary.co.uk
SUMMARY:PTFA Valentine Disco
DESCRIPTION:Nursery\, Reception and Year 1 – 3.45 – 4.30pm \nYears 2\, 3 and 4 – 4.45 – 5.30pm \nYears 5 and 6 – 5.45 – 6.30pm \nPlease pay cash on the door. \n 
URL:https://greenbank-primary.co.uk/event/ptfa-valentine-disco/
END:VEVENT
BEGIN:VEVENT
DTSTART;TZID=Europe/London:20250213T140000
DTEND;TZID=Europe/London:20250213T150000
DTSTAMP:20260425T133925
CREATED:20250131T110807Z
LAST-MODIFIED:20250131T110807Z
UID:10000127-1739455200-1739458800@greenbank-primary.co.uk
SUMMARY:Nursery PM visit Greenbank Park
DESCRIPTION:
URL:https://greenbank-primary.co.uk/event/nursery-pm-visit-greenbank-park/
END:VEVENT
BEGIN:VEVENT
DTSTART;VALUE=DATE:20250213
DTEND;VALUE=DATE:20250214
DTSTAMP:20260425T133925
CREATED:20250212T123239Z
LAST-MODIFIED:20250212T123239Z
UID:10000145-1739404800-1739491199@greenbank-primary.co.uk
SUMMARY:OWN CLOTHES DAY
DESCRIPTION:
URL:https://greenbank-primary.co.uk/event/own-clothes-day-3/
END:VEVENT
BEGIN:VEVENT
DTSTART;TZID=Europe/London:20250211T103000
DTEND;TZID=Europe/London:20250211T113000
DTSTAMP:20260425T133925
CREATED:20250131T110722Z
LAST-MODIFIED:20250131T110722Z
UID:10000126-1739269800-1739273400@greenbank-primary.co.uk
SUMMARY:Nursery AM visit Greenbank Park
DESCRIPTION:
URL:https://greenbank-primary.co.uk/event/nursery-am-visit-greenbank-park/
END:VEVENT
BEGIN:VEVENT
DTSTART;VALUE=DATE:20250207
DTEND;VALUE=DATE:20250208
DTSTAMP:20260425T133925
CREATED:20250212T084506Z
LAST-MODIFIED:20250212T084506Z
UID:10000138-1738886400-1738972799@greenbank-primary.co.uk
SUMMARY:Own Clothes Day
DESCRIPTION:
URL:https://greenbank-primary.co.uk/event/own-clothes-day-2/
END:VEVENT
BEGIN:VEVENT
DTSTART;TZID=Europe/London:20250205T133000
DTEND;TZID=Europe/London:20250205T150000
DTSTAMP:20260425T133925
CREATED:20250131T112530Z
LAST-MODIFIED:20250131T112530Z
UID:10000135-1738762200-1738767600@greenbank-primary.co.uk
SUMMARY:Year 2 visit Greenbank Park
DESCRIPTION:
URL:https://greenbank-primary.co.uk/event/year-2-visit-greenbank-park-2/
END:VEVENT
BEGIN:VEVENT
DTSTART;TZID=Europe/London:20250204T103000
DTEND;TZID=Europe/London:20250204T113000
DTSTAMP:20260425T133925
CREATED:20250204T150111Z
LAST-MODIFIED:20250204T150111Z
UID:10000137-1738665000-1738668600@greenbank-primary.co.uk
SUMMARY:Year 1 Greenbank Park Visit
DESCRIPTION:
URL:https://greenbank-primary.co.uk/event/year-1-greenbank-park-visit/
END:VEVENT
BEGIN:VEVENT
DTSTART;TZID=Europe/London:20250203T133000
DTEND;TZID=Europe/London:20250203T150000
DTSTAMP:20260425T133925
CREATED:20250204T150039Z
LAST-MODIFIED:20250204T150039Z
UID:10000136-1738589400-1738594800@greenbank-primary.co.uk
SUMMARY:Year 3 Greenbank Park Visit
DESCRIPTION:
URL:https://greenbank-primary.co.uk/event/year-3-greenbank-park-visit/
END:VEVENT
BEGIN:VEVENT
DTSTART;VALUE=DATE:20250203
DTEND;VALUE=DATE:20250208
DTSTAMP:20260425T133925
CREATED:20250131T110630Z
LAST-MODIFIED:20250131T110630Z
UID:10000125-1738540800-1738972799@greenbank-primary.co.uk
SUMMARY:Children's Mental Health Week
DESCRIPTION:
URL:https://greenbank-primary.co.uk/event/childrens-mental-health-week/
END:VEVENT
BEGIN:VEVENT
DTSTART;TZID=Europe/London:20250130T140000
DTEND;TZID=Europe/London:20250130T150000
DTSTAMP:20260425T133925
CREATED:20250131T110547Z
LAST-MODIFIED:20250131T110547Z
UID:10000124-1738245600-1738249200@greenbank-primary.co.uk
SUMMARY:Reception Stay and Play (Chinese New Year)
DESCRIPTION:
URL:https://greenbank-primary.co.uk/event/reception-stay-and-play-chinese-new-year/
END:VEVENT
END:VCALENDAR