



BEGIN:VCALENDAR
VERSION:2.0
PRODID:-//Greenbank Primary School - ECPv6.15.20//NONSGML v1.0//EN
CALSCALE:GREGORIAN
METHOD:PUBLISH
X-WR-CALNAME:Greenbank Primary School
X-ORIGINAL-URL:https://greenbank-primary.co.uk
X-WR-CALDESC:Events for Greenbank Primary School
REFRESH-INTERVAL;VALUE=DURATION:PT1H
X-Robots-Tag:noindex
X-PUBLISHED-TTL:PT1H
BEGIN:VTIMEZONE
TZID:Europe/London
BEGIN:DAYLIGHT
TZOFFSETFROM:+0000
TZOFFSETTO:+0100
TZNAME:BST
DTSTART:20240331T010000
END:DAYLIGHT
BEGIN:STANDARD
TZOFFSETFROM:+0100
TZOFFSETTO:+0000
TZNAME:GMT
DTSTART:20241027T010000
END:STANDARD
BEGIN:DAYLIGHT
TZOFFSETFROM:+0000
TZOFFSETTO:+0100
TZNAME:BST
DTSTART:20250330T010000
END:DAYLIGHT
BEGIN:STANDARD
TZOFFSETFROM:+0100
TZOFFSETTO:+0000
TZNAME:GMT
DTSTART:20251026T010000
END:STANDARD
BEGIN:DAYLIGHT
TZOFFSETFROM:+0000
TZOFFSETTO:+0100
TZNAME:BST
DTSTART:20260329T010000
END:DAYLIGHT
BEGIN:STANDARD
TZOFFSETFROM:+0100
TZOFFSETTO:+0000
TZNAME:GMT
DTSTART:20261025T010000
END:STANDARD
END:VTIMEZONE
BEGIN:VEVENT
DTSTART;VALUE=DATE:20250710
DTEND;VALUE=DATE:20250711
DTSTAMP:20260422T122935
CREATED:20250519T090357Z
LAST-MODIFIED:20250519T090357Z
UID:10000190-1752105600-1752191999@greenbank-primary.co.uk
SUMMARY:Year 2 Farmer Ted's visit
DESCRIPTION:
URL:https://greenbank-primary.co.uk/event/year-2-farmer-teds-visit/
END:VEVENT
BEGIN:VEVENT
DTSTART;TZID=Europe/London:20250709T133000
DTEND;TZID=Europe/London:20250709T150000
DTSTAMP:20260422T122935
CREATED:20250605T101749Z
LAST-MODIFIED:20250605T101749Z
UID:10000199-1752067800-1752073200@greenbank-primary.co.uk
SUMMARY:Nursery Graduation
DESCRIPTION:All Nursery children from both AM and PM come to school at 12.30pm \nGraduation will be at 1.30pm
URL:https://greenbank-primary.co.uk/event/nursery-graduation/
END:VEVENT
BEGIN:VEVENT
DTSTART;VALUE=DATE:20250709
DTEND;VALUE=DATE:20250712
DTSTAMP:20260422T122935
CREATED:20250212T090424Z
LAST-MODIFIED:20250212T090639Z
UID:10000142-1752019200-1752278399@greenbank-primary.co.uk
SUMMARY:Year 3 CHET Residential trip
DESCRIPTION:
URL:https://greenbank-primary.co.uk/event/year-3-chet-residential/
END:VEVENT
BEGIN:VEVENT
DTSTART;TZID=Europe/London:20250708T140000
DTEND;TZID=Europe/London:20250708T150000
DTSTAMP:20260422T122935
CREATED:20250625T084817Z
LAST-MODIFIED:20250625T084817Z
UID:10000204-1751983200-1751986800@greenbank-primary.co.uk
SUMMARY:Year 3 Stay & Play session - parents welcome
DESCRIPTION:School has organised a Stay and Play session for parents to visit school and enjoy time on the playground with their children and their friends. \n2.15pm – 3pm (weather permitting) \nPlease enter school via Arlington Avenue\, playground gate. \nWould be lovely to see as many families as possible enjoying games and activities on the playground.
URL:https://greenbank-primary.co.uk/event/year-3-stay-play-session-parents-welcome/
END:VEVENT
BEGIN:VEVENT
DTSTART;VALUE=DATE:20250708
DTEND;VALUE=DATE:20250709
DTSTAMP:20260422T122935
CREATED:20250326T145312Z
LAST-MODIFIED:20250326T145312Z
UID:10000156-1751932800-1752019199@greenbank-primary.co.uk
SUMMARY:Year 1 trip to Cheshire Ice Cream Farm
DESCRIPTION:
URL:https://greenbank-primary.co.uk/event/year-1-trip-to-cheshire-ice-cream-farm/
END:VEVENT
BEGIN:VEVENT
DTSTART;TZID=Europe/London:20250707T140000
DTEND;TZID=Europe/London:20250707T150000
DTSTAMP:20260422T122935
CREATED:20250625T084553Z
LAST-MODIFIED:20250625T084553Z
UID:10000203-1751896800-1751900400@greenbank-primary.co.uk
SUMMARY:Year 2 - Stay & Play session - parents welcome
DESCRIPTION:School has organised a Stay and Play session for parents to visit school and enjoy time on the playground with their children and their friends. \n2.15pm – 3pm (weather permitting) \nPlease enter school via Arlington Avenue\, playground gate. \nWould be lovely to see as many families as possible enjoying games and activities on the playground.
URL:https://greenbank-primary.co.uk/event/year-2-stay-play-session-parents-welcome/
END:VEVENT
BEGIN:VEVENT
DTSTART;TZID=Europe/London:20250704T080000
DTEND;TZID=Europe/London:20250704T170000
DTSTAMP:20260422T122935
CREATED:20250704T114140Z
LAST-MODIFIED:20250704T114140Z
UID:10000210-1751616000-1751648400@greenbank-primary.co.uk
SUMMARY:Behaviour Policy Feedback
DESCRIPTION:https://forms.office.com/Pages/ShareFormPage.aspx?id=HIhhegQhWU2hHhd0873wGeYo3lPYJpdCpEWKTIWF2KZUOFBYOUdPU1hMMEtBMTJHMUIzQkgzQlhHSC4u&sharetoken=5EZaA1uLy6HEeKR8HVJQhttps://forms.office.com/Pages/ShareFormPage.aspx?id=HIhhegQhWU2hHhd0873wGeYo3lPYJpdCpEWKTIWF2KZUOFBYOUdPU1hMMEtBMTJHMUIzQkgzQlhHSC4u&sharetoken=5EZaA1uLy6HEeKR8HVJQ
URL:https://greenbank-primary.co.uk/event/behaviour-policy-feedback/
END:VEVENT
BEGIN:VEVENT
DTSTART;TZID=Europe/London:20250703T160000
DTEND;TZID=Europe/London:20250703T170000
DTSTAMP:20260422T122935
CREATED:20250605T101244Z
LAST-MODIFIED:20250605T101244Z
UID:10000197-1751558400-1751562000@greenbank-primary.co.uk
SUMMARY:Reception Open Evening
DESCRIPTION:
URL:https://greenbank-primary.co.uk/event/reception-open-evening-2/
END:VEVENT
BEGIN:VEVENT
DTSTART;TZID=Europe/London:20250703T140000
DTEND;TZID=Europe/London:20250703T150000
DTSTAMP:20260422T122935
CREATED:20250625T084349Z
LAST-MODIFIED:20250625T084349Z
UID:10000202-1751551200-1751554800@greenbank-primary.co.uk
SUMMARY:Year 5 Stay & Play - parents welcome
DESCRIPTION:School has organised a Stay and Play session for parents to visit school and enjoy time on the playground with their children and their friends. \n2.15pm – 3pm (weather permitting) \nPlease enter school via Arlington Avenue\, playground gate. \nWould be lovely to see as many families as possible enjoying games and activities on the playground.
URL:https://greenbank-primary.co.uk/event/year-5-stay-play-parents-welcome/
END:VEVENT
BEGIN:VEVENT
DTSTART;VALUE=DATE:20250703
DTEND;VALUE=DATE:20250704
DTSTAMP:20260422T122936
CREATED:20250605T101147Z
LAST-MODIFIED:20250605T101147Z
UID:10000196-1751500800-1751587199@greenbank-primary.co.uk
SUMMARY:Year 6 trip to Gulliver's World
DESCRIPTION:
URL:https://greenbank-primary.co.uk/event/year-6-trip-to-gullivers-world/
END:VEVENT
BEGIN:VEVENT
DTSTART;VALUE=DATE:20250703
DTEND;VALUE=DATE:20250704
DTSTAMP:20260422T122936
CREATED:20250519T084927Z
LAST-MODIFIED:20250519T084927Z
UID:10000188-1751500800-1751587199@greenbank-primary.co.uk
SUMMARY:Nursery trip to Imagine That
DESCRIPTION:
URL:https://greenbank-primary.co.uk/event/nursery-trip-to-imagine-that/
END:VEVENT
BEGIN:VEVENT
DTSTART;TZID=Europe/London:20250702T160000
DTEND;TZID=Europe/London:20250702T170000
DTSTAMP:20260422T122936
CREATED:20250605T101101Z
LAST-MODIFIED:20250605T101101Z
UID:10000195-1751472000-1751475600@greenbank-primary.co.uk
SUMMARY:Nursery Open Evening
DESCRIPTION:
URL:https://greenbank-primary.co.uk/event/nursery-open-evening/
END:VEVENT
BEGIN:VEVENT
DTSTART;VALUE=DATE:20250702
DTEND;VALUE=DATE:20250705
DTSTAMP:20260422T122936
CREATED:20250605T101405Z
LAST-MODIFIED:20250605T101405Z
UID:10000198-1751414400-1751673599@greenbank-primary.co.uk
SUMMARY:Year 4 Residential trip - PGL
DESCRIPTION:
URL:https://greenbank-primary.co.uk/event/year-4-residential-trip-pgl/
END:VEVENT
BEGIN:VEVENT
DTSTART;VALUE=DATE:20250702
DTEND;VALUE=DATE:20250703
DTSTAMP:20260422T122936
CREATED:20250605T101011Z
LAST-MODIFIED:20250605T101011Z
UID:10000194-1751414400-1751500799@greenbank-primary.co.uk
SUMMARY:Year 6 Transition Day
DESCRIPTION:
URL:https://greenbank-primary.co.uk/event/year-6-transition-day/
END:VEVENT
BEGIN:VEVENT
DTSTART;VALUE=DATE:20250701
DTEND;VALUE=DATE:20250702
DTSTAMP:20260422T122936
CREATED:20250131T111656Z
LAST-MODIFIED:20250131T111656Z
UID:10000134-1751328000-1751414399@greenbank-primary.co.uk
SUMMARY:Liverpool Cathedral - Big Sing
DESCRIPTION:More details for follow
URL:https://greenbank-primary.co.uk/event/liverpool-cathedral-big-sing/
END:VEVENT
BEGIN:VEVENT
DTSTART;VALUE=DATE:20250630
DTEND;VALUE=DATE:20250701
DTSTAMP:20260422T122936
CREATED:20250519T085135Z
LAST-MODIFIED:20250519T085135Z
UID:10000189-1751241600-1751327999@greenbank-primary.co.uk
SUMMARY:Year 3 Knowsley Safari Visit
DESCRIPTION:
URL:https://greenbank-primary.co.uk/event/year-3-knowsley-safari-visit/
END:VEVENT
BEGIN:VEVENT
DTSTART;VALUE=DATE:20250625
DTEND;VALUE=DATE:20250628
DTSTAMP:20260422T122936
CREATED:20250212T090537Z
LAST-MODIFIED:20250212T090537Z
UID:10000144-1750809600-1751068799@greenbank-primary.co.uk
SUMMARY:Year 6 ORMSIDE Residential trip
DESCRIPTION:
URL:https://greenbank-primary.co.uk/event/year-6-ormside-residential-trip/
END:VEVENT
BEGIN:VEVENT
DTSTART;VALUE=DATE:20250618
DTEND;VALUE=DATE:20250619
DTSTAMP:20260422T122936
CREATED:20250519T084701Z
LAST-MODIFIED:20250519T084701Z
UID:10000187-1750204800-1750291199@greenbank-primary.co.uk
SUMMARY:Whole School Class photographs
DESCRIPTION:
URL:https://greenbank-primary.co.uk/event/whole-school-class-photographs-2/
END:VEVENT
BEGIN:VEVENT
DTSTART;TZID=Europe/London:20250616T110000
DTEND;TZID=Europe/London:20250616T120000
DTSTAMP:20260422T122936
CREATED:20250605T100649Z
LAST-MODIFIED:20250605T100649Z
UID:10000193-1750071600-1750075200@greenbank-primary.co.uk
SUMMARY:Year 6 Sponsored Litter Pick
DESCRIPTION:
URL:https://greenbank-primary.co.uk/event/year-6-sponsored-litter-pick/
END:VEVENT
BEGIN:VEVENT
DTSTART;TZID=Europe/London:20250613T153000
DTEND;TZID=Europe/London:20250613T170000
DTSTAMP:20260422T122936
CREATED:20250605T100548Z
LAST-MODIFIED:20250605T100548Z
UID:10000192-1749828600-1749834000@greenbank-primary.co.uk
SUMMARY:PTFA EID Event
DESCRIPTION:
URL:https://greenbank-primary.co.uk/event/ptfa-eid-event/
END:VEVENT
BEGIN:VEVENT
DTSTART;VALUE=DATE:20250612
DTEND;VALUE=DATE:20250613
DTSTAMP:20260422T122936
CREATED:20250519T084603Z
LAST-MODIFIED:20250519T084603Z
UID:10000186-1749686400-1749772799@greenbank-primary.co.uk
SUMMARY:Reception - Mersey Ferry and New Brighton trip
DESCRIPTION:
URL:https://greenbank-primary.co.uk/event/reception-mersey-ferry-and-new-brighton-trip/
END:VEVENT
BEGIN:VEVENT
DTSTART;VALUE=DATE:20250604
DTEND;VALUE=DATE:20250607
DTSTAMP:20260422T122936
CREATED:20250212T090503Z
LAST-MODIFIED:20250212T090503Z
UID:10000143-1748995200-1749254399@greenbank-primary.co.uk
SUMMARY:Year 5 BUSHCRAFT Residential trip
DESCRIPTION:
URL:https://greenbank-primary.co.uk/event/year-5-bushcraft-residential-trip/
END:VEVENT
BEGIN:VEVENT
DTSTART;VALUE=DATE:20250604
DTEND;VALUE=DATE:20250605
DTSTAMP:20260422T122936
CREATED:20250519T084416Z
LAST-MODIFIED:20250519T084416Z
UID:10000185-1748995200-1749081599@greenbank-primary.co.uk
SUMMARY:Year 4 - Walker Art gallery and Museum trip
DESCRIPTION:
URL:https://greenbank-primary.co.uk/event/year-4-walker-art-gallery-and-museum-trip/
END:VEVENT
BEGIN:VEVENT
DTSTART;VALUE=DATE:20250526
DTEND;VALUE=DATE:20250531
DTSTAMP:20260422T122936
CREATED:20241002T083853Z
LAST-MODIFIED:20241002T083853Z
UID:10000108-1748217600-1748649599@greenbank-primary.co.uk
SUMMARY:Half term (school closed)
DESCRIPTION:
URL:https://greenbank-primary.co.uk/event/half-term-school-closed-4/
END:VEVENT
BEGIN:VEVENT
DTSTART;VALUE=DATE:20250523
DTEND;VALUE=DATE:20250524
DTSTAMP:20260422T122936
CREATED:20250516T121141Z
LAST-MODIFIED:20250516T121141Z
UID:10000180-1747958400-1748044799@greenbank-primary.co.uk
SUMMARY:School OPEN as normal
DESCRIPTION:Please leave in plenty of time to collect your child from school at normal  home time. \nThank you
URL:https://greenbank-primary.co.uk/event/school-open-as-normal/
END:VEVENT
BEGIN:VEVENT
DTSTART;TZID=Europe/London:20250522T160000
DTEND;TZID=Europe/London:20250522T170000
DTSTAMP:20260422T122936
CREATED:20250519T084210Z
LAST-MODIFIED:20250519T084210Z
UID:10000184-1747929600-1747933200@greenbank-primary.co.uk
SUMMARY:New Reception (September 2025) - Open Evening
DESCRIPTION:
URL:https://greenbank-primary.co.uk/event/new-reception-september-2025-open-evening/
END:VEVENT
BEGIN:VEVENT
DTSTART;TZID=Europe/London:20250522T100000
DTEND;TZID=Europe/London:20250522T113000
DTSTAMP:20260422T122936
CREATED:20250430T094603Z
LAST-MODIFIED:20250430T094603Z
UID:10000161-1747908000-1747913400@greenbank-primary.co.uk
SUMMARY:Year 6 swimming (4 weeks)
DESCRIPTION:Year 6 start swimming for 4 weeks: \n22.5.25 \n5.6.25 \n12.6.25 \n19.6.25
URL:https://greenbank-primary.co.uk/event/year-6-swimming-4-weeks/
END:VEVENT
BEGIN:VEVENT
DTSTART;TZID=Europe/London:20250521T140000
DTEND;TZID=Europe/London:20250521T150000
DTSTAMP:20260422T122936
CREATED:20250519T084057Z
LAST-MODIFIED:20250519T084057Z
UID:10000183-1747836000-1747839600@greenbank-primary.co.uk
SUMMARY:Year 1 Phonics Workshop for parents
DESCRIPTION:
URL:https://greenbank-primary.co.uk/event/year-1-phonics-workshop-for-parents/
END:VEVENT
BEGIN:VEVENT
DTSTART;TZID=Europe/London:20250520T130000
DTEND;TZID=Europe/London:20250520T150000
DTSTAMP:20260422T122936
CREATED:20250519T083856Z
LAST-MODIFIED:20250519T083856Z
UID:10000182-1747746000-1747753200@greenbank-primary.co.uk
SUMMARY:Year 1 visit Mystery Park
DESCRIPTION:Year 1 will visit Mystery Park as part of their Geography topic in school \n1.15 – 2.45pm \nChildren will be back in school for normal home time \nAll children to bring a waterproof coat to school.
URL:https://greenbank-primary.co.uk/event/year-1-visit-mystery-park/
END:VEVENT
BEGIN:VEVENT
DTSTART;TZID=Europe/London:20250520T090000
DTEND;TZID=Europe/London:20250520T130000
DTSTAMP:20260422T122936
CREATED:20250519T083708Z
LAST-MODIFIED:20250519T083946Z
UID:10000181-1747731600-1747746000@greenbank-primary.co.uk
SUMMARY:Year 6 visit Sefton Park
DESCRIPTION:Children will visit Sefton Park during the morning\, they will stay to eat their lunch and be back to school for normal afternoon lessons. \nAll children to wear their school PE kits and bring a waterproof coat. \nChildren will need to bring a packed lunch in a disposable bag. \n 
URL:https://greenbank-primary.co.uk/event/year-6-visit-sefton-park/
END:VEVENT
END:VCALENDAR