



BEGIN:VCALENDAR
VERSION:2.0
PRODID:-//Greenbank Primary School - ECPv6.15.20//NONSGML v1.0//EN
CALSCALE:GREGORIAN
METHOD:PUBLISH
X-ORIGINAL-URL:https://greenbank-primary.co.uk
X-WR-CALDESC:Events for Greenbank Primary School
REFRESH-INTERVAL;VALUE=DURATION:PT1H
X-Robots-Tag:noindex
X-PUBLISHED-TTL:PT1H
BEGIN:VTIMEZONE
TZID:Europe/London
BEGIN:DAYLIGHT
TZOFFSETFROM:+0000
TZOFFSETTO:+0100
TZNAME:BST
DTSTART:20240331T010000
END:DAYLIGHT
BEGIN:STANDARD
TZOFFSETFROM:+0100
TZOFFSETTO:+0000
TZNAME:GMT
DTSTART:20241027T010000
END:STANDARD
BEGIN:DAYLIGHT
TZOFFSETFROM:+0000
TZOFFSETTO:+0100
TZNAME:BST
DTSTART:20250330T010000
END:DAYLIGHT
BEGIN:STANDARD
TZOFFSETFROM:+0100
TZOFFSETTO:+0000
TZNAME:GMT
DTSTART:20251026T010000
END:STANDARD
BEGIN:DAYLIGHT
TZOFFSETFROM:+0000
TZOFFSETTO:+0100
TZNAME:BST
DTSTART:20260329T010000
END:DAYLIGHT
BEGIN:STANDARD
TZOFFSETFROM:+0100
TZOFFSETTO:+0000
TZNAME:GMT
DTSTART:20261025T010000
END:STANDARD
BEGIN:DAYLIGHT
TZOFFSETFROM:+0000
TZOFFSETTO:+0100
TZNAME:BST
DTSTART:20270328T010000
END:DAYLIGHT
BEGIN:STANDARD
TZOFFSETFROM:+0100
TZOFFSETTO:+0000
TZNAME:GMT
DTSTART:20271031T010000
END:STANDARD
END:VTIMEZONE
BEGIN:VEVENT
DTSTART;VALUE=DATE:20251202
DTEND;VALUE=DATE:20251203
DTSTAMP:20260422T092532
CREATED:20251119T115709Z
LAST-MODIFIED:20251119T115709Z
UID:10000237-1764633600-1764719999@greenbank-primary.co.uk
SUMMARY:Year 5 trip to Crosby Plaza Cinema
DESCRIPTION:
URL:https://greenbank-primary.co.uk/event/year-5-trip-to-crosby-plaza-cinema/
END:VEVENT
BEGIN:VEVENT
DTSTART;TZID=Europe/London:20251203T093000
DTEND;TZID=Europe/London:20251203T123000
DTSTAMP:20260422T092532
CREATED:20251107T120837Z
LAST-MODIFIED:20251107T120837Z
UID:10000225-1764754200-1764765000@greenbank-primary.co.uk
SUMMARY:Year 4 trip to Shakespeare North Theatre
DESCRIPTION:
URL:https://greenbank-primary.co.uk/event/year-4-trip-to-shakespeare-north-theatre/
END:VEVENT
BEGIN:VEVENT
DTSTART;TZID=Europe/London:20251204T080000
DTEND;TZID=Europe/London:20251204T170000
DTSTAMP:20260422T092532
CREATED:20251204T155428Z
LAST-MODIFIED:20251204T155455Z
UID:10000238-1764835200-1764867600@greenbank-primary.co.uk
SUMMARY:Basic English Lessons
DESCRIPTION:https://greenbank-primary.co.uk/wp-content/uploads/2025/12/ESOL-25_26-1.pdf
URL:https://greenbank-primary.co.uk/event/basic-english-lessons/
END:VEVENT
BEGIN:VEVENT
DTSTART;TZID=Europe/London:20251209T113000
DTEND;TZID=Europe/London:20251209T133000
DTSTAMP:20260422T092532
CREATED:20251107T121711Z
LAST-MODIFIED:20251107T121711Z
UID:10000229-1765279800-1765287000@greenbank-primary.co.uk
SUMMARY:Children's Christmas Dinner
DESCRIPTION:
URL:https://greenbank-primary.co.uk/event/childrens-christmas-dinner-2/
END:VEVENT
BEGIN:VEVENT
DTSTART;VALUE=DATE:20251210
DTEND;VALUE=DATE:20251211
DTSTAMP:20260422T092532
CREATED:20251107T121950Z
LAST-MODIFIED:20251107T121950Z
UID:10000232-1765324800-1765411199@greenbank-primary.co.uk
SUMMARY:Early Years Performance
DESCRIPTION:
URL:https://greenbank-primary.co.uk/event/early-years-performance/
END:VEVENT
BEGIN:VEVENT
DTSTART;VALUE=DATE:20251211
DTEND;VALUE=DATE:20251212
DTSTAMP:20260422T092532
CREATED:20251107T121036Z
LAST-MODIFIED:20251107T121036Z
UID:10000227-1765411200-1765497599@greenbank-primary.co.uk
SUMMARY:Reception trip to Croxteth Farm & Grotto
DESCRIPTION:
URL:https://greenbank-primary.co.uk/event/reception-trip-to-croxteth-farm-grotto/
END:VEVENT
BEGIN:VEVENT
DTSTART;TZID=Europe/London:20251212T133000
DTEND;TZID=Europe/London:20251212T150000
DTSTAMP:20260422T092532
CREATED:20251107T122047Z
LAST-MODIFIED:20251107T122047Z
UID:10000233-1765546200-1765551600@greenbank-primary.co.uk
SUMMARY:Rock Steady Concert
DESCRIPTION:
URL:https://greenbank-primary.co.uk/event/rock-steady-concert/
END:VEVENT
BEGIN:VEVENT
DTSTART;TZID=Europe/London:20251216T093000
DTEND;TZID=Europe/London:20251216T123000
DTSTAMP:20260422T092532
CREATED:20251107T121149Z
LAST-MODIFIED:20251107T121149Z
UID:10000228-1765877400-1765888200@greenbank-primary.co.uk
SUMMARY:Years 1 and 2 trip to Crosby Plaza Cinema
DESCRIPTION:
URL:https://greenbank-primary.co.uk/event/years-1-and-2-trip-to-crosby-plaza-cinema/
END:VEVENT
BEGIN:VEVENT
DTSTART;VALUE=DATE:20251218
DTEND;VALUE=DATE:20251219
DTSTAMP:20260422T092532
CREATED:20250501T094026Z
LAST-MODIFIED:20250501T094026Z
UID:10000176-1766016000-1766102399@greenbank-primary.co.uk
SUMMARY:End of term
DESCRIPTION:
URL:https://greenbank-primary.co.uk/event/end-of-term-5/
END:VEVENT
BEGIN:VEVENT
DTSTART;VALUE=DATE:20251219
DTEND;VALUE=DATE:20251220
DTSTAMP:20260422T092532
CREATED:20250501T092411Z
LAST-MODIFIED:20250501T092505Z
UID:10000165-1766102400-1766188799@greenbank-primary.co.uk
SUMMARY:School INSET Day (No.4) - School Closed
DESCRIPTION:
URL:https://greenbank-primary.co.uk/event/school-inset-day-no-6-school-closed/
END:VEVENT
BEGIN:VEVENT
DTSTART;VALUE=DATE:20251222
DTEND;VALUE=DATE:20260105
DTSTAMP:20260422T092532
CREATED:20250501T092848Z
LAST-MODIFIED:20250501T092848Z
UID:10000168-1766361600-1767571199@greenbank-primary.co.uk
SUMMARY:CHRISTMAS BREAK (School Closed)
DESCRIPTION:
URL:https://greenbank-primary.co.uk/event/christmas-break-school-closed/
END:VEVENT
END:VCALENDAR